BEGIN:VCALENDAR
VERSION:2.0
PRODID:-//Ἱερὰ Μητρόπολη Αὐστρίας -::- Οἰκουμενικὸ Πατριαρχείο//NONSGML kigkonsult.se iCalcreator 2.41.92//
CALSCALE:GREGORIAN
METHOD:PUBLISH
UID:63363764-3138-4665-b662-643365303330
X-WR-CALNAME:iCagenda
X-WR-CALDESC:Event Management Extension for Joomla!
X-WR-RELCALID:3E26604A-50F4-4449-8B3E-E4F4932D05B5
X-WR-TIMEZONE:Europe/Vienna
BEGIN:VTIMEZONE
TZID:Europe/Vienna
TZUNTIL:20271031T010000Z
BEGIN:STANDARD
TZNAME:CET
DTSTART:20251026T030000
TZOFFSETFROM:+0200
TZOFFSETTO:+0100
RDATE:20261025T030000
END:STANDARD
BEGIN:DAYLIGHT
TZNAME:CEST
DTSTART:20260329T020000
TZOFFSETFROM:+0100
TZOFFSETTO:+0200
RDATE:20270328T020000
END:DAYLIGHT
END:VTIMEZONE
BEGIN:VEVENT
UID:39326339-6339-4234-b130-363061353939
DTSTAMP:20260419T144747Z
CATEGORIES:Wien
CLASS:PUBLIC
DESCRIPTION;ALTREP="CID:<FFFF__=0ABBE548DFE235B58f9e8a93d@coffeebean.com>":
 Κείμενα τῆς Ἀκολουθίας θὰ βρεῖτε ἐδῶ
DTSTART:20260419T060000Z
DTEND:20260419T060000Z
GEO:+48.211201;+16.376736
LOCATION:Ἱερὸς Ναὸς Ἁγίου Γεωργίου
ORGANIZER;CN=:mailto:kirche@metropolisvonaustria.at
SEQUENCE:1
SUMMARY:Ὄρθρος καὶ Θεία Λειτουργία
TRANSP:OPAQUE
URL:https://metropolisvonaustria.at/el/component/icagenda/4255-liturgie-HL-
 Georg-gr/2026-04-19-08-00
END:VEVENT
END:VCALENDAR
