BEGIN:VCALENDAR
VERSION:2.0
PRODID:-//Heilige Metropolis von Austria -::- Ökumenisches Patriarchat//NONSGML kigkonsult.se iCalcreator 2.41.92//
CALSCALE:GREGORIAN
METHOD:PUBLISH
UID:37653134-3436-4537-b334-373633656331
X-WR-CALNAME:iCagenda
X-WR-CALDESC:Event Management Extension for Joomla!
X-WR-RELCALID:3E26604A-50F4-4449-8B3E-E4F4932D05B5
X-WR-TIMEZONE:Europe/Vienna
BEGIN:VTIMEZONE
TZID:Europe/Vienna
TZUNTIL:20271031T010000Z
BEGIN:STANDARD
TZNAME:CET
DTSTART:20251026T030000
TZOFFSETFROM:+0200
TZOFFSETTO:+0100
RDATE:20261025T030000
END:STANDARD
BEGIN:DAYLIGHT
TZNAME:CEST
DTSTART:20260329T020000
TZOFFSETFROM:+0100
TZOFFSETTO:+0200
RDATE:20270328T020000
END:DAYLIGHT
END:VTIMEZONE
BEGIN:VEVENT
UID:63343565-3332-4239-b661-633064623735
DTSTAMP:20260425T144421Z
CATEGORIES:Wien
CLASS:PUBLIC
DESCRIPTION:
DTSTART:20260425T060000Z
DTEND:20260425T060000Z
GEO:00;0
LOCATION:Kapelle des Heiligen Johannes Chysostomos
ORGANIZER;CN=:mailto:kirche@metropolisvonaustria.at
SEQUENCE:1
SUMMARY:Morgenamt und Göttliche Liturgie
TRANSP:OPAQUE
URL:https://metropolisvonaustria.at/de/component/icagenda/4259-morgenamt_go
 ettliche_liturgie_kapelle_de/2026-04-25-08-00?layout=vcal
END:VEVENT
END:VCALENDAR
