BEGIN:VCALENDAR
VERSION:2.0
PRODID:-//Heilige Metropolis von Austria -::- Ökumenisches Patriarchat//NONSGML kigkonsult.se iCalcreator 2.41.92//
CALSCALE:GREGORIAN
METHOD:PUBLISH
UID:39666133-6666-4666-a331-643534303532
X-WR-CALNAME:iCagenda
X-WR-CALDESC:Event Management Extension for Joomla!
X-WR-RELCALID:3E26604A-50F4-4449-8B3E-E4F4932D05B5
X-WR-TIMEZONE:Europe/Vienna
BEGIN:VTIMEZONE
TZID:Europe/Vienna
TZUNTIL:20271031T010000Z
BEGIN:STANDARD
TZNAME:CET
DTSTART:20251026T030000
TZOFFSETFROM:+0200
TZOFFSETTO:+0100
RDATE:20261025T030000
END:STANDARD
BEGIN:DAYLIGHT
TZNAME:CEST
DTSTART:20260329T020000
TZOFFSETFROM:+0100
TZOFFSETTO:+0200
RDATE:20270328T020000
END:DAYLIGHT
END:VTIMEZONE
BEGIN:VEVENT
UID:66636163-3035-4363-b234-333063343336
DTSTAMP:20260424T140059Z
CATEGORIES:Heiligenkalender
CLASS:PUBLIC
DESCRIPTION;ALTREP="CID:<FFFF__=0ABBE548DFE235B58f9e8a93d@coffeebean.com>":
 Heiligenkalender der Orthodoxen Kirche\nAm Vierundzwanzigsten des Monats\,
  das Gedächtnis unserer seligen Mutter Elisabeth der Wundertäterin. An die
 sem Tag\, das Gedächtnis des heiligen Märtyrer Sabbas\, des Soldaten. An d
 iesem Tag\, das Gedächtnis der 70 Soldaten\, die wegen des heiligen Sabbas
  geglaubt haben und durch das Schwert vollendet wurden. An diesem Tag\, da
 s Gedächtnis der heiligen Märtyrer Pasikrates und Valention. An diesem Tag
 \, das Gedächtnis der heiligen Märtyrer Eusebius\, Neon\, Leontios\, Longi
 nus und vier weiterer .
DTSTART:20260423T220000Z
DTEND:20260423T220000Z
GEO:00;0
LOCATION:
ORGANIZER:
SEQUENCE:1
SUMMARY:Gedächtnis unserer seligen Mutter Elisabeth der Wundertäterin
TRANSP:OPAQUE
URL:https://metropolisvonaustria.at/de/component/icagenda/3783-2025-04-18-0
 7-46-49/2026-04-24-00-00?layout=vcal
END:VEVENT
END:VCALENDAR
